BEGIN:VCALENDAR
VERSION:2.0
PRODID:-//Erlebnisbrauerei Lohmar - ECPv6.13.2.1//NONSGML v1.0//EN
CALSCALE:GREGORIAN
METHOD:PUBLISH
X-WR-CALNAME:Erlebnisbrauerei Lohmar
X-ORIGINAL-URL:https://wp.renze-lohne.de
X-WR-CALDESC:Veranstaltungen für Erlebnisbrauerei Lohmar
REFRESH-INTERVAL;VALUE=DURATION:PT1H
X-Robots-Tag:noindex
X-PUBLISHED-TTL:PT1H
BEGIN:VTIMEZONE
TZID:Europe/Berlin
BEGIN:DAYLIGHT
TZOFFSETFROM:+0100
TZOFFSETTO:+0200
TZNAME:CEST
DTSTART:20250330T010000
END:DAYLIGHT
BEGIN:STANDARD
TZOFFSETFROM:+0200
TZOFFSETTO:+0100
TZNAME:CET
DTSTART:20251026T010000
END:STANDARD
END:VTIMEZONE
BEGIN:VEVENT
DTSTART;TZID=Europe/Berlin:20250927T183000
DTEND;TZID=Europe/Berlin:20250927T200000
DTSTAMP:20260425T184720
CREATED:20250423T090503Z
LAST-MODIFIED:20250423T095300Z
UID:2720-1758997800-1759003200@wp.renze-lohne.de
SUMMARY:Sommelierabend - Biertasting 27.09.2025
DESCRIPTION:Unser Biertasting umfasst neben den eigens hergestellten Biersorten auch die ein oder andere bierige Überraschung für Euch! Ergänzt wird das Event mit leckeren Kleinigkeiten\, die zum jeweiligen Bier passen. \nWie läuft das Biertasting in Borgster‘s Erlebnisbrauerei ab? \nIhr lernt\, worauf es beim Biertrinken ankommt und wie Ihr Bier mit allen Sinnen genießt; Aussehen\, Geruch\, Geschmack. \nVerschiedene Biere werden verkostet: Biere aus eigener Herstellung und auch einige bierige Überraschungen. \nUnser Diplom Biersommelier erklärt Euch Wissenswertes über Bier und die unterschiedlichen Biersorten. \nWas ist beim Biertasting in Borgster’s Erlebnisbrauerei inklusive? \n\nIhr verkostet fünf verschiedene Biersorten (je 0\,1l)\nGanz viel neues Wissen über die Biersorten und deren Herkunft\nBegleitend dazu gibt es\, passend zum jeweiligen Bier eine Kleinigkeit (Brot\, Käse\, Schokolade)\n\nFür wen ist das Biertasting geeignet? \nDie Bierverkostung im Borgster‘s ist für alle geeignet\, die gern Bier trinken und mehr über das leckere Getränk erfahren wollen. Du lernst\, wie Du jedes Bier genießt und verschiedene Biersorten unterscheidest. \nWo findet das Biertasting statt? \nDas Biertasting findet in Borgster’s Erlebnisbrauerei in Lohmar an der Meigermühle statt. Bei uns sitzt Ihr mitten im Geschehen – zwischen Sudhaus\, Gär- und Lagerbereich und der Abfüllung. Unser Diplom Biersommelier ist ein wahrer Bier Experte und stellt eine tolle Auswahl an verschiedenen Bieren für das Biertasting zusammen. \nWas Ihr mitbringen solltet… \nGute Laune und Lust auf das ein oder andere Bier! :-) \nWelche Leistungen inklusive sind… \n\nIn dem Kurs werden fünf Biere (je 0\,1l) verkostet.\nPassend zum jeweiligen Bier reichen wir passende Kleinigkeiten (Brot\, Käse\, Schokolade).\nViel Wissenswertes rund ums Bier und unterhaltsame Anekdoten.\n\nDauer: 1\,5h \nPreis: 30\,00€ pro Person
URL:https://wp.renze-lohne.de/event/sommelierabend-biertasting_27-9-2025/
LOCATION:Erlebnisbrauerei Lohmar\, Meigermühle 2\, Lohmar\, Nordrhein-Westfalen\, 53797\, Germany
ORGANIZER;CN="Erlebnisbrauerei Lohmar":MAILTO:kontakt@erlebnisbrauerei-lohmar.de
END:VEVENT
BEGIN:VEVENT
DTSTART;TZID=Europe/Berlin:20250524T150000
DTEND;TZID=Europe/Berlin:20250524T200000
DTSTAMP:20260425T184720
CREATED:20250423T093100Z
LAST-MODIFIED:20250423T093100Z
UID:2738-1748098800-1748116800@wp.renze-lohne.de
SUMMARY:Gourmet-Markt in Hennef 20.6.2025
DESCRIPTION:Der Gourmet-Markt auf dem Marktplatz in Hennef lädt in der Zeit von 16 Uhr bis 22 Uhr zum „Treffen – Genießen – Relaxen“ ein. Eine vorherige Anmeldung ist nicht erforderlich.
URL:https://wp.renze-lohne.de/event/gourmet-markt-in-hennef_20-6-2025/
LOCATION:Abendmarkt in Troisdorf\, Fischerplatz\, Troisdorf\, Nordrhein-Westfalen\, 53840\, Germany
ORGANIZER;CN="Erlebnisbrauerei Lohmar":MAILTO:kontakt@erlebnisbrauerei-lohmar.de
END:VEVENT
BEGIN:VEVENT
DTSTART;TZID=Europe/Berlin:20250524T150000
DTEND;TZID=Europe/Berlin:20250524T200000
DTSTAMP:20260425T184720
CREATED:20250423T091053Z
LAST-MODIFIED:20250423T092157Z
UID:2724-1748098800-1748116800@wp.renze-lohne.de
SUMMARY:Abendmarkt in Troisdorf 6.6.2025
DESCRIPTION:Die öffentlichen Events in Borgster’s Erlebnisbrauerei Lohmar finden immer während der Öffnungszeiten statt und sind für jeden zugänglich. Eine vorherige Anmeldung ist nicht erforderlich.
URL:https://wp.renze-lohne.de/event/abendmarkt-troisdorf_6-6-2025/
LOCATION:Abendmarkt in Troisdorf\, Fischerplatz\, Troisdorf\, Nordrhein-Westfalen\, 53840\, Germany
ORGANIZER;CN="Erlebnisbrauerei Lohmar":MAILTO:kontakt@erlebnisbrauerei-lohmar.de
END:VEVENT
BEGIN:VEVENT
DTSTART;TZID=Europe/Berlin:20250524T150000
DTEND;TZID=Europe/Berlin:20250524T200000
DTSTAMP:20260425T184720
CREATED:20250423T090901Z
LAST-MODIFIED:20250425T105528Z
UID:2722-1748098800-1748116800@wp.renze-lohne.de
SUMMARY:Maibock Event 9.5.2025
DESCRIPTION:Die öffentlichen Events in Borgster’s Erlebnisbrauerei Lohmar finden immer während der Öffnungszeiten statt und sind für jeden zugänglich. Eine vorherige Anmeldung ist nicht erforderlich.
URL:https://wp.renze-lohne.de/event/maibock-event_9-05-2025/
LOCATION:Erlebnisbrauerei Lohmar\, Meigermühle 2\, Lohmar\, Nordrhein-Westfalen\, 53797\, Germany
ATTACH;FMTTYPE=image/jpeg:https://wp.renze-lohne.de/wp-content/uploads/2025/04/maibock-fest.jpg
ORGANIZER;CN="Erlebnisbrauerei Lohmar":MAILTO:kontakt@erlebnisbrauerei-lohmar.de
END:VEVENT
BEGIN:VEVENT
DTSTART;TZID=Europe/Berlin:20250524T093000
DTEND;TZID=Europe/Berlin:20250524T153000
DTSTAMP:20260425T184720
CREATED:20250423T084559Z
LAST-MODIFIED:20250425T102829Z
UID:2714-1748079000-1748100600@wp.renze-lohne.de
SUMMARY:Braukurs 24.05.2025
DESCRIPTION:Für Gruppen ab 15 Personen bieten wir Braukurse an. In diesen Braukursen braut Ihr Euer eigenes Bier und erlernt dabei die Grundlagen des Bierbrauens und Hintergünde zu den Rohstoffen und den ablaufenden Prozessen. Solltet Ihr als Einzelperson oder als kleine Gruppe Interesse an einem Braukurs haben\, habt Ihr die Möglichkeit Euch an einem offenen Braukurs  – siehe Termine & Veranstaltungen  – anzumelden. \nDer Preis für einen Braukurs\, inklusive Planwagenfahrt\, Frühstück und Mittagessen in der Gammersbacher Mühle\, beträgt 95\,-€  pro Person.  \nBitte beachtet\, dass der Braukurs auf dem Gelände der Gammersbacher Mühle endet. 
URL:https://wp.renze-lohne.de/event/braukurs_24-5-2025/
LOCATION:Erlebnisbrauerei Lohmar\, Meigermühle 2\, Lohmar\, Nordrhein-Westfalen\, 53797\, Germany
CATEGORIES:Braukurse
ATTACH;FMTTYPE=image/jpeg:https://wp.renze-lohne.de/wp-content/uploads/2025/04/events-braukurse.jpg
ORGANIZER;CN="Erlebnisbrauerei Lohmar":MAILTO:kontakt@erlebnisbrauerei-lohmar.de
END:VEVENT
END:VCALENDAR